BEGIN:VCALENDAR
VERSION:2.0
PRODID:-//T-REX - ECPv6.15.20//NONSGML v1.0//EN
CALSCALE:GREGORIAN
METHOD:PUBLISH
X-ORIGINAL-URL:https://downtowntrex.org
X-WR-CALDESC:Events for T-REX
REFRESH-INTERVAL;VALUE=DURATION:PT1H
X-Robots-Tag:noindex
X-PUBLISHED-TTL:PT1H
BEGIN:VTIMEZONE
TZID:America/Chicago
BEGIN:DAYLIGHT
TZOFFSETFROM:-0600
TZOFFSETTO:-0500
TZNAME:CDT
DTSTART:20240310T080000
END:DAYLIGHT
BEGIN:STANDARD
TZOFFSETFROM:-0500
TZOFFSETTO:-0600
TZNAME:CST
DTSTART:20241103T070000
END:STANDARD
BEGIN:DAYLIGHT
TZOFFSETFROM:-0600
TZOFFSETTO:-0500
TZNAME:CDT
DTSTART:20250309T080000
END:DAYLIGHT
BEGIN:STANDARD
TZOFFSETFROM:-0500
TZOFFSETTO:-0600
TZNAME:CST
DTSTART:20251102T070000
END:STANDARD
BEGIN:DAYLIGHT
TZOFFSETFROM:-0600
TZOFFSETTO:-0500
TZNAME:CDT
DTSTART:20260308T080000
END:DAYLIGHT
BEGIN:STANDARD
TZOFFSETFROM:-0500
TZOFFSETTO:-0600
TZNAME:CST
DTSTART:20261101T070000
END:STANDARD
END:VTIMEZONE
BEGIN:VEVENT
DTSTART;TZID=America/Chicago:20250123T180000
DTEND;TZID=America/Chicago:20250123T210000
DTSTAMP:20260421T131451
CREATED:20250110T203902Z
LAST-MODIFIED:20250110T204011Z
UID:8572-1737655200-1737666000@downtowntrex.org
SUMMARY:T-REX/WashU Geospatial in Motion
DESCRIPTION:In collaboration with the T-REX Innovation Center\, WashU Continuing & Professional Studies will be hosting the Geospatial in Motion event on Thursday\, January 23\, 2025\, from 6:30 PM to 9:00 PM. The event will take place at 911 Washington Avenue #500\, St. Louis\, MO 63101.\n\nThis event is a great opportunity for both prospective and current students interested in GIS to explore the significance of geospatial science and network with industry professionals.\n\nIf you plan to attend\, please complete the registration form linked below. The form will remain open until Monday\, January 20\, 2025.\n\nRegistration link: https://wustl.az1.qualtrics.com/jfe/form/SV_bQ6KC6Na60TjRGu [wustl.az1.qualtrics.com]
URL:https://downtowntrex.org/event/t-rex-washu-geospatial-in-motion/
LOCATION:T-REX 5th Floor\, 911 Washington Ave. Suite 500\, St. Louis\, MO\, 63101\, United States
CATEGORIES:Geospatial in Motion
END:VEVENT
END:VCALENDAR