BEGIN:VCALENDAR
VERSION:2.0
PRODID:-//T-REX - ECPv6.15.20//NONSGML v1.0//EN
CALSCALE:GREGORIAN
METHOD:PUBLISH
X-ORIGINAL-URL:https://downtowntrex.org
X-WR-CALDESC:Events for T-REX
REFRESH-INTERVAL;VALUE=DURATION:PT1H
X-Robots-Tag:noindex
X-PUBLISHED-TTL:PT1H
BEGIN:VTIMEZONE
TZID:America/Chicago
BEGIN:DAYLIGHT
TZOFFSETFROM:-0600
TZOFFSETTO:-0500
TZNAME:CDT
DTSTART:20230312T080000
END:DAYLIGHT
BEGIN:STANDARD
TZOFFSETFROM:-0500
TZOFFSETTO:-0600
TZNAME:CST
DTSTART:20231105T070000
END:STANDARD
BEGIN:DAYLIGHT
TZOFFSETFROM:-0600
TZOFFSETTO:-0500
TZNAME:CDT
DTSTART:20240310T080000
END:DAYLIGHT
BEGIN:STANDARD
TZOFFSETFROM:-0500
TZOFFSETTO:-0600
TZNAME:CST
DTSTART:20241103T070000
END:STANDARD
BEGIN:DAYLIGHT
TZOFFSETFROM:-0600
TZOFFSETTO:-0500
TZNAME:CDT
DTSTART:20250309T080000
END:DAYLIGHT
BEGIN:STANDARD
TZOFFSETFROM:-0500
TZOFFSETTO:-0600
TZNAME:CST
DTSTART:20251102T070000
END:STANDARD
BEGIN:DAYLIGHT
TZOFFSETFROM:-0600
TZOFFSETTO:-0500
TZNAME:CDT
DTSTART:20260308T080000
END:DAYLIGHT
BEGIN:STANDARD
TZOFFSETFROM:-0500
TZOFFSETTO:-0600
TZNAME:CST
DTSTART:20261101T070000
END:STANDARD
END:VTIMEZONE
BEGIN:VEVENT
DTSTART;TZID=America/Chicago:20250514T160000
DTEND;TZID=America/Chicago:20250514T170000
DTSTAMP:20260425T102916
CREATED:20250418T151929Z
LAST-MODIFIED:20250418T160622Z
UID:8595-1747238400-1747242000@downtowntrex.org
SUMMARY:Geosaurus Unleashed: Project Connect
DESCRIPTION:The OurPlan neighborhood initiative within Project Connect utilized advanced geospatial mapping tools to identify and highlight target areas for housing infill and development. \nRegister Here \nThrough detailed spatial analysis\, the initiative pinpointed optimal locations for residential\, commercial\, and mixed-use projects\, ensuring strategic and efficient growth while prioritizing the needs and desires of the community. These mapping insights will help guide conversations about funding and implementation\, ensuring that resources are allocated effectively and development efforts align with both community priorities and long-term growth goals. \nJoin us every second Wednesday\, from 4pm to 5pm CST for Geosaurus Unleashed! Enjoy an impactful presentation as well as free drinks and food\, and networking. \nReserve Your Ticket Here
URL:https://downtowntrex.org/event/geosaurus-unleashed-project-connect/
LOCATION:Geospatial Innovation Center @ T-REX (4th Floor)\, 911 Washington Ave\, St. Louis\, MO\, 63101\, United States
CATEGORIES:Geosaurus Unleashed
ATTACH;FMTTYPE=image/jpeg:https://downtowntrex.org/wp-content/uploads/2025/04/IMG_3887.jpeg
END:VEVENT
BEGIN:VEVENT
DTSTART;TZID=America/Chicago:20250409T160000
DTEND;TZID=America/Chicago:20250409T170000
DTSTAMP:20260425T102916
CREATED:20250319T193913Z
LAST-MODIFIED:20250321T211015Z
UID:8585-1744214400-1744218000@downtowntrex.org
SUMMARY:Geosaurus Unleashed: We Hear You
DESCRIPTION:Making Accessibility Smarter \nWe Hear You\, an Arch Grant recipient and T-REX company\, is redefining accessibility with innovative assistive tech. Their Hero Door Opener turns standard doors into automatic\, touch-free entry points in minutes—no hardwiring needed. \nNow\, with geolocation technology\, their app helps users easily find Push compatible doors through an interactive map.  As they continue to innovate\, they’re working toward geospatial integration to map broader accessibility data\, making barrier-free navigation even more intuitive. \nJoin us Wednesday\, April 9th from 4pm to 5pm CST for Geosaurus Unleashed! Enjoy an impactful presentation from We Hear You\, as well as free drinks and food\, and networking. \nStay up-to-date with the Geosaurus Unleashed Newsletter! \nEvery second Wednesday of the month we spotlight a speaker to discuss how they’re using geospatial technology in their field of expertise to tackle some of the world’s toughest problems.
URL:https://downtowntrex.org/event/geosaurus-unleashed-we-hear-you/
LOCATION:Geospatial Innovation Center @ T-REX (4th Floor)\, 911 Washington Ave\, St. Louis\, MO\, 63101\, United States
CATEGORIES:Geosaurus Unleashed
ATTACH;FMTTYPE=image/jpeg:https://downtowntrex.org/wp-content/uploads/2025/03/Untitled-2.jpeg
END:VEVENT
BEGIN:VEVENT
DTSTART;TZID=America/Chicago:20250212T160000
DTEND;TZID=America/Chicago:20250212T170000
DTSTAMP:20260425T102916
CREATED:20250211T175731Z
LAST-MODIFIED:20250211T175731Z
UID:8580-1739376000-1739379600@downtowntrex.org
SUMMARY:Geosaurus Unleashed: Powered by Woolpert
DESCRIPTION:Powered by Woolpert: Geosaurus Unleashed is back on Wednesday\, Feb. 12th at 4-5pm on T-REX’s 4th Foor!🦖 Don’t miss out on networking\, free food and free drinks 🍻 Join us for Part 2\, and the final edition of our Pet Project Hackathon series. \nThis month’s presenter is Rohan Keenoy\, one of the creators of “Paw Print Surveillance\,” a Chrome extension that helps you shop for dogs safely. This plugin is a full stack application with reporting resources\, geo visualizations\, and clustering algorithms that help predict if your puppy came from a puppy mill. This unique presentation is one that you won’t want to miss! Your pets will thank you for it! 🐕🐈 \nDid you know Missouri is the puppy mill capital of the U.S.? Last July\, T-REX hosted a one-of-a-kind hackathon around animal welfare\, specifically puppy mills. In collaboration with organizations like Bailing Out Benji and Missouri Alliance for Animal Legislation we provided participants with strong data and problem statements to help them come up with tools to help these organizations fight for our dogs and cats. The results the hackathon were so incredible\, we picked two groups to present at Geosaurus Unleashed: one group in October and one in February.
URL:https://downtowntrex.org/event/geosaurus-unleashed-powered-by-woolpert/
LOCATION:Geospatial Innovation Center @ T-REX (4th Floor)\, 911 Washington Ave\, St. Louis\, MO\, 63101\, United States
CATEGORIES:Geosaurus Unleashed
END:VEVENT
BEGIN:VEVENT
DTSTART;TZID=America/Chicago:20241121T160000
DTEND;TZID=America/Chicago:20241121T170000
DTSTAMP:20260425T102916
CREATED:20241114T174720Z
LAST-MODIFIED:20241114T174720Z
UID:8535-1732204800-1732208400@downtowntrex.org
SUMMARY:Geosaurus Unleashed - Tribal GIS
DESCRIPTION:TOPIC: GIS in Indian Country – Learn how Native American communities within the U.S. are using geospatial technologies to protect the past and plan for the future. The concept of geospatial knowledge is deeply rooted in tribal history\, which goes back thousands of years. Since the inception of modern GIS platforms\, tribes have been using geospatial technologies to protect historical landscapes\, cultural and natural resources. Today\, geospatial technologies are being used to plan for sustainable tribal growth and development while managing data for an effective government. \nSPEAKER: Garet Couch\, GISP\, is a citizen of the Shawnee Tribe and is the President/CEO of the National Tribal Geographic Information Support Center (NTGISC)\, also known as Tribal GIS\, is a Native American led 501(c)(3) organization that provides geospatial information systems (GIS) technical assistance and support to Tribal governments in their utilization of GIS to inform decision-making in the stewardship of Tribal lands and resources\, as well as the health and well-being of American Indian and Alaska Native peoples. Tribal GIS also serves as a professional platform for Tribal personnel\, Tribal members\, faculty\, and students at Tribal Colleges and Universities (TCUs) and supporting organizations to share professional forward-thinking views\, progressive knowledge\, and continuous education within a community of active GIS users serving Native American communities.
URL:https://downtowntrex.org/event/geosaurus-unleashed-tribal-gis/
LOCATION:Geospatial Innovation Center @ T-REX (4th Floor)\, 911 Washington Ave\, St. Louis\, MO\, 63101\, United States
CATEGORIES:Geosaurus Unleashed
END:VEVENT
BEGIN:VEVENT
DTSTART;TZID=America/Chicago:20240911T160000
DTEND;TZID=America/Chicago:20240911T170000
DTSTAMP:20260425T102916
CREATED:20240604T214653Z
LAST-MODIFIED:20241113T143601Z
UID:8442-1726070400-1726074000@downtowntrex.org
SUMMARY:Geosaurus Unleashed
DESCRIPTION:With a focus on hiring from the neurodiverse population\, Enabled Intelligence seeks to educate how these types of employees have proven especially adept of the detail orientation\, hyperfocus\, and pattern recognition and puzzle solving skills needed for highly accurate data labeling. EI primarily hires entry level positions for Data Annotation and Quality Control for geospatial image analysis and labeling; they recruit from high schools\, community colleges\, and other local sources. \nEnabled Intelligence\, Inc. provides data labeling service and Artificial Intelligence (AI) technology for a number of industries including geospatial analysis.  EI is expanding into the St. Louis area and wants to reach out to the local workforce to introduce themselves. \nEvery second Wednesday of the month we will spotlight a speaker to discuss how they’re using geospatial technology in their field of expertise to tackle some of the world’s toughest problems. Don’t miss out on free drinks and networking as well.  We hope to see you here!
URL:https://downtowntrex.org/event/geosaurus-unleashed/
LOCATION:Geospatial Innovation Center @ T-REX (4th Floor)\, 911 Washington Ave\, St. Louis\, MO\, 63101\, United States
CATEGORIES:Geosaurus Unleashed
ATTACH;FMTTYPE=image/png:https://downtowntrex.org/wp-content/uploads/2024/06/IMG_0370.png
END:VEVENT
END:VCALENDAR